BEGIN:VCALENDAR
VERSION:2.0
PRODID:-//ΦΛΕΣΣΑ ΒΑΣΙΛΙΚΗ (ΒΙΚΥ) - ECPv6.15.6//NONSGML v1.0//EN
CALSCALE:GREGORIAN
METHOD:PUBLISH
X-WR-CALNAME:ΦΛΕΣΣΑ ΒΑΣΙΛΙΚΗ (ΒΙΚΥ)
X-ORIGINAL-URL:https://vickyflessa.eu
X-WR-CALDESC:Events for ΦΛΕΣΣΑ ΒΑΣΙΛΙΚΗ (ΒΙΚΥ)
REFRESH-INTERVAL;VALUE=DURATION:PT1H
X-Robots-Tag:noindex
X-PUBLISHED-TTL:PT1H
BEGIN:VTIMEZONE
TZID:Europe/Athens
BEGIN:DAYLIGHT
TZOFFSETFROM:+0200
TZOFFSETTO:+0300
TZNAME:EEST
DTSTART:20230326T010000
END:DAYLIGHT
BEGIN:STANDARD
TZOFFSETFROM:+0300
TZOFFSETTO:+0200
TZNAME:EET
DTSTART:20231029T010000
END:STANDARD
BEGIN:DAYLIGHT
TZOFFSETFROM:+0200
TZOFFSETTO:+0300
TZNAME:EEST
DTSTART:20240331T010000
END:DAYLIGHT
BEGIN:STANDARD
TZOFFSETFROM:+0300
TZOFFSETTO:+0200
TZNAME:EET
DTSTART:20241027T010000
END:STANDARD
BEGIN:DAYLIGHT
TZOFFSETFROM:+0200
TZOFFSETTO:+0300
TZNAME:EEST
DTSTART:20250330T010000
END:DAYLIGHT
BEGIN:STANDARD
TZOFFSETFROM:+0300
TZOFFSETTO:+0200
TZNAME:EET
DTSTART:20251026T010000
END:STANDARD
END:VTIMEZONE
BEGIN:VEVENT
DTSTART;TZID=Europe/Athens:20240527T180000
DTEND;TZID=Europe/Athens:20240527T180000
DTSTAMP:20260421T191854
CREATED:20240522T155457Z
LAST-MODIFIED:20240525T090809Z
UID:7824-1716832800-1716832800@vickyflessa.eu
SUMMARY:Πρόσκληση στην εκδήλωση της Βίκυς Φλέσσα: "Η Ευρώπη στο Μέλλον. Επιστροφή στον Άνθρωπο."
DESCRIPTION:[vc_row][vc_column][vc_column_text] \n\n\nΑγαπητές φίλες\, αγαπητοί φίλοι\,\nΜέλη της Νέας Δημοκρατίας\, \nΜε ιδιαίτερη χαρά σάς προσκαλούμε στην επιστημονική ημερίδα\nπου οργανώνει και συντονίζει η Δημοσιογράφος – Κλασική Φιλόλογος\, υποψήφια Ευρωβουλευτής ΝΔ \nΦΛΕΣΣΑ ΒΑΣΙΛΙΚΗ (ΒΙΚΥ) με θέμα : \n«Η Ευρώπη στο Μέλλον. \nΕπιστροφή στον Άνθρωπο» \nΚαι με ομιλητές Ακαδημαϊκούς Επιστήμονες\, μεταξύ των οποίων Γ.Μπαμπινιώτης\, Στ.Κριμιζής\, Κ.Δασκαλάκης\, Μ.Ευθυμίου\, Χ.Ζερεφός\, Π.Ροϊλός\, Κ.Βαρώτσος\, Γ.Χρούσος\, κ.α (επισυνάπτεται το Πρόγραμμα εδώ) \nΔευτέρα 27 Μαΐου 2024\n&\nΏρα έναρξης 18.00\n(Ώρα προσέλευσης 17.30) \nΣτο\nΩδείο Αθηνών\, Αμφιθέατρο Ιωάννης Δεσποτόπουλος\nΡηγίλλης & Βασ. Γεωργίου Β’ 17-19\, Αθήνα \n(Οδηγίες προσέλευσης) \n \n\n\n[/vc_column_text]ΔΕΙΤΕ ΤΗΝ ΕΚΔΗΛΩΣΗ ΣΕ LIVE STREAMING[/vc_column][/vc_row]
URL:https://vickyflessa.eu/event/%cf%80%cf%81%cf%8c%cf%83%ce%ba%ce%bb%ce%b7%cf%83%ce%b7-%cf%83%cf%84%ce%b7%ce%bd-%ce%b5%ce%ba%ce%b4%ce%ae%ce%bb%cf%89%cf%83%ce%b7-%cf%84%ce%b7%cf%82-%ce%b2%ce%af%ce%ba%cf%85%cf%82-%cf%86%ce%bb%ce%ad/
LOCATION:Ωδείο Αθηνών\,  Αμφιθέατρο Ιωάννης Δεσποτόπουλος\, Ρηγίλλης και Βασ. Γεωργίου Β 17-19\, Αθήνα\, Greece
ATTACH;FMTTYPE=image/png:https://vickyflessa.eu/wp-content/uploads/2024/05/ΠΡΟΣΚΛΗΣΗ_ΕΚΔΗΛΩΣΗΣ_ΦΛΕΣΣΑ_ΒΑΣΙΛΙΚΗ_web.png
END:VEVENT
END:VCALENDAR